BEGIN:VCALENDAR
VERSION:2.0
PRODID:-//hacksw/handcal//NONSGML v1.0//EN
BEGIN:VEVENT
SUMMARY:DOMBASLE SUR MEURTHE - TIR PAR EQUIPE DE PRINTEMPS
UID:962dbbf9-a14f-4a84-b6c3-4b3b6fda95f4
DTSTART:20260411T220000Z
DTEND:20260412T220000Z
LOCATION:Localisation   DOMBASLE SUR MEURTHE
CATEGORIES:Sportif
STATUS:
URL;VALUE=URI:https://www.archer-montigny-les-metz.com/evenements/2026/04/12/dombasle-sur-meurthe-tir-par-equipe-de-printemps-2440953
END:VEVENT
END:VCALENDAR
