BEGIN:VCALENDAR
VERSION:2.0
PRODID:-//hacksw/handcal//NONSGML v1.0//EN
BEGIN:VEVENT
SUMMARY:BRUNSTATT - TIR DU MUGUET
UID:cec418d5-8873-420d-8453-d50c471be907
DTSTART:20260430T220000Z
DTEND:20260501T220000Z
LOCATION:Localisation   BRUNSTATT
CATEGORIES:Sportif
STATUS:
URL;VALUE=URI:https://www.archer-montigny-les-metz.com/evenements/2026/05/01/brunstatt-tir-du-muguet-2440944
END:VEVENT
END:VCALENDAR
