BEGIN:VCALENDAR
VERSION:2.0
PRODID:-//hacksw/handcal//NONSGML v1.0//EN
BEGIN:VEVENT
SUMMARY:SARREGUEMINES - TIR CAMPAGNE DU BUCHHOLZ CD57
UID:383c3994-0466-44b1-9e8b-0c537c37469e
DTSTART:20260430T220000Z
DTEND:20260501T220000Z
LOCATION:Localisation   SARREGUEMINES
CATEGORIES:Sportif
STATUS:
URL;VALUE=URI:https://www.archer-montigny-les-metz.com/evenements/2026/05/01/sarreguemines-tir-campagne-du-buchholz-cd57-2440945
END:VEVENT
END:VCALENDAR
