BEGIN:VCALENDAR
VERSION:2.0
PRODID:-//hacksw/handcal//NONSGML v1.0//EN
BEGIN:VEVENT
SUMMARY:SEICHAMPS - CHALLENGE DE PRINTEMPS 2026
UID:9c998f35-9a93-499e-8a77-1d009742441b
DTSTART:20260501T220000Z
DTEND:20260503T220000Z
LOCATION:Localisation   SEICHAMPS
CATEGORIES:Sportif
STATUS:
URL;VALUE=URI:https://www.archer-montigny-les-metz.com/evenements/2026/05/02/seichamps-challenge-de-printemps-2026-2440941
END:VEVENT
END:VCALENDAR
