BEGIN:VCALENDAR
VERSION:2.0
PRODID:-//hacksw/handcal//NONSGML v1.0//EN
BEGIN:VEVENT
SUMMARY:DOMBASLE SUR MEURTHE - TAE - DOMBASLE
UID:8d68b7f8-0b55-4517-81c7-2b606e366916
DTSTART:20260508T220000Z
DTEND:20260510T220000Z
LOCATION:Localisation   DOMBASLE SUR MEURTHE
CATEGORIES:Sportif
STATUS:
URL;VALUE=URI:https://www.archer-montigny-les-metz.com/evenements/2026/05/09/dombasle-sur-meurthe-tae-dombasle-2440937
END:VEVENT
END:VCALENDAR
