BEGIN:VCALENDAR
VERSION:2.0
PRODID:-//hacksw/handcal//NONSGML v1.0//EN
BEGIN:VEVENT
SUMMARY:VERTUS BLANCS COTEAUX - CIRCUIT DES 5 NATIONS - VERTUS
UID:d6c12009-1de1-4a67-9b0c-aba926cff22c
DTSTART:20260508T220000Z
DTEND:20260510T220000Z
LOCATION:Localisation   VERTUS  BLANCS-COTEAUX
CATEGORIES:Sportif
STATUS:
URL;VALUE=URI:https://www.archer-montigny-les-metz.com/evenements/2026/05/09/vertus-blancs-coteaux-circuit-des-5-nations-vertus-2440935
END:VEVENT
END:VCALENDAR
