BEGIN:VCALENDAR
VERSION:2.0
PRODID:-//hacksw/handcal//NONSGML v1.0//EN
BEGIN:VEVENT
SUMMARY:CHALONS EN CHAMPAGNE 1ER - TAEI ET TAEN - CD51 TAEI
UID:0bcbc6a9-95f2-4848-85ad-1835d2618384
DTSTART:20260509T220000Z
DTEND:20260510T220000Z
LOCATION:Localisation   CHALONS EN CHAMPAGNE
CATEGORIES:Sportif
STATUS:
URL;VALUE=URI:https://www.archer-montigny-les-metz.com/evenements/2026/05/10/chalons-en-champagne-1er-taei-et-taen-cd51-taei-2440934
END:VEVENT
END:VCALENDAR
