BEGIN:VCALENDAR
VERSION:2.0
PRODID:-//hacksw/handcal//NONSGML v1.0//EN
BEGIN:VEVENT
SUMMARY:HAUCOURT-MOULAINE - TIR CAMPAGNE 2026 CHATEAU DE CONS LA GRANDVILLE
UID:3b9dcf6a-6621-4be1-8a44-fd11a9d7e1ef
DTSTART:20260513T220000Z
DTEND:20260514T220000Z
LOCATION:Localisation   CONS LA GRANDVILLE
CATEGORIES:Sportif
STATUS:
URL;VALUE=URI:https://www.archer-montigny-les-metz.com/evenements/2026/05/14/haucourt-moulaine-tir-campagne-2026-chateau-de-cons-la-grandville-2440933
END:VEVENT
END:VCALENDAR
