BEGIN:VCALENDAR
VERSION:2.0
PRODID:-//hacksw/handcal//NONSGML v1.0//EN
BEGIN:VEVENT
SUMMARY:CHAUMONT - TA EXTERIEUR - CD 52
UID:4ab0ccdf-ec96-4f45-8143-5fc6ab131691
DTSTART:20260516T220000Z
DTEND:20260517T220000Z
LOCATION:Localisation   CHAUMONT
CATEGORIES:Sportif
STATUS:
URL;VALUE=URI:https://www.archer-montigny-les-metz.com/evenements/2026/05/17/chaumont-ta-exterieur-cd-52-2440932
END:VEVENT
END:VCALENDAR
