BEGIN:VCALENDAR
VERSION:2.0
PRODID:-//hacksw/handcal//NONSGML v1.0//EN
BEGIN:VEVENT
SUMMARY:NEUWILLER LES SAVERNE - CONCOURS CAMPAGNE
UID:fcc7bdf6-bd8d-4543-a8b9-5a23c34d8fe4
DTSTART:20260516T220000Z
DTEND:20260517T220000Z
LOCATION:Localisation   NEUWILLER-LES-SAVERNE
CATEGORIES:Sportif
STATUS:
URL;VALUE=URI:https://www.archer-montigny-les-metz.com/evenements/2026/05/17/neuwiller-les-saverne-concours-campagne-2440931
END:VEVENT
END:VCALENDAR
