BEGIN:VCALENDAR
VERSION:2.0
PRODID:-//hacksw/handcal//NONSGML v1.0//EN
BEGIN:VEVENT
SUMMARY:LUNEVILLE - TAE INTERNATIONAL CD54
UID:c5de588f-38f1-4e98-8c30-2cb29f1ddbc1
DTSTART:20260522T220000Z
DTEND:20260524T220000Z
LOCATION:Localisation   LUNEVILLE
CATEGORIES:Sportif
STATUS:
URL;VALUE=URI:https://www.archer-montigny-les-metz.com/evenements/2026/05/23/luneville-tae-international-cd54-2440929
END:VEVENT
END:VCALENDAR
