BEGIN:VCALENDAR
VERSION:2.0
PRODID:-//hacksw/handcal//NONSGML v1.0//EN
BEGIN:VEVENT
SUMMARY:VAGNEY - TIR CAMPAGNE DE VAGNEY - CD 88
UID:ed310042-164b-412f-8d9e-420e7fe70cad
DTSTART:20260522T220000Z
DTEND:20260524T220000Z
LOCATION:Localisation   VAGNEY
CATEGORIES:Sportif
STATUS:
URL;VALUE=URI:https://www.archer-montigny-les-metz.com/evenements/2026/05/23/vagney-tir-campagne-de-vagney-cd-88-2440930
END:VEVENT
END:VCALENDAR
