BEGIN:VCALENDAR
VERSION:2.0
PRODID:-//hacksw/handcal//NONSGML v1.0//EN
BEGIN:VEVENT
SUMMARY:ARS SUR MOSELLE - TIR 3D - CD57 - ANCY DORNOT
UID:0b30f03e-92e1-45a4-a96c-9c63acd07aa5
DTSTART:20260523T220000Z
DTEND:20260524T220000Z
LOCATION:Localisation   ANCY DORNOT
CATEGORIES:Sportif
STATUS:
URL;VALUE=URI:https://www.archer-montigny-les-metz.com/evenements/2026/05/24/ars-sur-moselle-tir-3d-cd57-ancy-dornot-2440927
END:VEVENT
END:VCALENDAR
