BEGIN:VCALENDAR
VERSION:2.0
PRODID:-//hacksw/handcal//NONSGML v1.0//EN
BEGIN:VEVENT
SUMMARY:EINVILLE - TAE I ET N
UID:65eb436e-afdf-447c-b344-9f1a3df7baed
DTSTART:20260530T220000Z
DTEND:20260531T220000Z
LOCATION:Localisation   EINVILLE
CATEGORIES:Sportif
STATUS:
URL;VALUE=URI:https://www.archer-montigny-les-metz.com/evenements/2026/05/31/einville-tae-i-et-n-2440925
END:VEVENT
END:VCALENDAR
