BEGIN:VCALENDAR
VERSION:2.0
PRODID:-//hacksw/handcal//NONSGML v1.0//EN
BEGIN:VEVENT
SUMMARY:DIEUZE - TAEN
UID:925c691c-da62-4f15-ad9a-61fabb0e15d1
DTSTART:20260612T220000Z
DTEND:20260614T220000Z
LOCATION:Localisation   DIEUZE
CATEGORIES:Sportif
STATUS:
URL;VALUE=URI:https://www.archer-montigny-les-metz.com/evenements/2026/06/13/dieuze-taen-2440917
END:VEVENT
END:VCALENDAR
