BEGIN:VCALENDAR
VERSION:2.0
PRODID:-//hacksw/handcal//NONSGML v1.0//EN
BEGIN:VEVENT
SUMMARY:GORZE - 3D GORZE JUIN 2 DEPARTS
UID:264b8a7b-bacd-40f3-8f4c-18570804cf50
DTSTART:20260613T220000Z
DTEND:20260614T220000Z
LOCATION:Localisation   GORZE
CATEGORIES:Sportif
STATUS:
URL;VALUE=URI:https://www.archer-montigny-les-metz.com/evenements/2026/06/14/gorze-3d-gorze-juin-2-departs-2440913
END:VEVENT
END:VCALENDAR
