BEGIN:VCALENDAR
VERSION:2.0
PRODID:-//hacksw/handcal//NONSGML v1.0//EN
BEGIN:VEVENT
SUMMARY:MONTIGNY LES METZ A.C. - TAE I+N / DRE3
UID:57a8eab6-5a91-42f9-82c7-10cac702be1d
DTSTART:20260620T220000Z
DTEND:20260621T220000Z
LOCATION:Localisation   MONTIGNY-LES-METZ
CATEGORIES:Sportif
STATUS:
URL;VALUE=URI:https://www.archer-montigny-les-metz.com/evenements/2026/06/21/montigny-les-metz-ac-tae-in-dre3-2440907
END:VEVENT
END:VCALENDAR
