BEGIN:VCALENDAR
VERSION:2.0
PRODID:-//hacksw/handcal//NONSGML v1.0//EN
BEGIN:VEVENT
SUMMARY:CR DU GRAND EST - HAUT KOENIGSBOURG CR CAMPAGNE
UID:cd0d0040-6e35-406a-8619-eac714c3baee
DTSTART:20260627T220000Z
DTEND:20260628T220000Z
LOCATION:Localisation   ORSCHWILLER
CATEGORIES:Sportif
STATUS:
URL;VALUE=URI:https://www.archer-montigny-les-metz.com/evenements/2026/06/28/cr-du-grand-est-haut-koenigsbourg-cr-campagne-2440906
END:VEVENT
END:VCALENDAR
