BEGIN:VCALENDAR
VERSION:2.0
PRODID:-//hacksw/handcal//NONSGML v1.0//EN
BEGIN:VEVENT
SUMMARY:HAYANGE - TAEN CD57 + TAEI
UID:b7be8e68-b8f1-4ede-adbc-3452a8b54175
DTSTART:20260627T220000Z
DTEND:20260628T220000Z
LOCATION:Localisation   HAYANGE
CATEGORIES:Sportif
STATUS:
URL;VALUE=URI:https://www.archer-montigny-les-metz.com/evenements/2026/06/28/hayange-taen-cd57-taei-2440904
END:VEVENT
END:VCALENDAR
