BEGIN:VCALENDAR
VERSION:2.0
PRODID:-//hacksw/handcal//NONSGML v1.0//EN
BEGIN:VEVENT
SUMMARY:LINGOLSHEIM - CHAMPIONNAT REGIONAL TAEN ET CD67
UID:bc80b4c6-02df-4e72-a078-b0278e9e202e
DTSTART:20260627T220000Z
DTEND:20260628T220000Z
LOCATION:Localisation   LINGOLSHEIM
CATEGORIES:Sportif
STATUS:
URL;VALUE=URI:https://www.archer-montigny-les-metz.com/evenements/2026/06/28/lingolsheim-championnat-regional-taen-et-cd67-2440903
END:VEVENT
END:VCALENDAR
