BEGIN:VCALENDAR
VERSION:2.0
PRODID:-//hacksw/handcal//NONSGML v1.0//EN
BEGIN:VEVENT
SUMMARY:MARLY POURNOY - CR TAE I - MARLY
UID:53415be7-f1de-4265-8ce4-3b12f716aa7c
DTSTART:20260704T220000Z
DTEND:20260705T220000Z
LOCATION:Localisation   MARLY POURNOY
CATEGORIES:Sportif
STATUS:
URL;VALUE=URI:https://www.archer-montigny-les-metz.com/evenements/2026/07/05/marly-pournoy-cr-tae-i-marly-2440901
END:VEVENT
END:VCALENDAR
