BEGIN:VCALENDAR
VERSION:2.0
PRODID:-//hacksw/handcal//NONSGML v1.0//EN
BEGIN:VEVENT
SUMMARY:VERDUN - TIR 3D - CR - 110 ANS DE LA BATAILLE DE VERDUN
UID:1b2af75a-bce3-43d2-a8d6-da8cd690f562
DTSTART:20260704T220000Z
DTEND:20260705T220000Z
LOCATION:Localisation   VERDUN
CATEGORIES:Sportif
STATUS:
URL;VALUE=URI:https://www.archer-montigny-les-metz.com/evenements/2026/07/05/verdun-tir-3d-cr-110-ans-de-la-bataille-de-verdun-2440899
END:VEVENT
END:VCALENDAR
