BEGIN:VCALENDAR
VERSION:2.0
PRODID:-//hacksw/handcal//NONSGML v1.0//EN
BEGIN:VEVENT
SUMMARY:SARREGUEMINES - TIR CAMPAGNE DU MOULIN DES FAIENCIERS
UID:7734ad1f-0098-40c0-8c02-0a3ec989f532
DTSTART:20260904T220000Z
DTEND:20260906T220000Z
LOCATION:Localisation   SARREGUEMINES
CATEGORIES:Sportif
STATUS:
URL;VALUE=URI:https://www.archer-montigny-les-metz.com/evenements/2026/09/05/sarreguemines-tir-campagne-du-moulin-des-faienciers-2440895
END:VEVENT
END:VCALENDAR
