BEGIN:VCALENDAR
VERSION:2.0
PRODID:-//hacksw/handcal//NONSGML v1.0//EN
BEGIN:VEVENT
SUMMARY:GORZE - NATURE GORZE SEPT 2 DEPARTS
UID:e7cbab41-1654-4ae0-a24e-71cb3f6b49d3
DTSTART:20260912T220000Z
DTEND:20260913T220000Z
LOCATION:Localisation   GORZE
CATEGORIES:Sportif
STATUS:
URL;VALUE=URI:https://www.archer-montigny-les-metz.com/evenements/2026/09/13/gorze-nature-gorze-sept-2-departs-2440894
END:VEVENT
END:VCALENDAR
